Workbook
Name descriptions: Matériels!$H$12:$H$31
Name Libelle: Matériels!$E$12:$E$31
Name Liste: Matériels!$E$12:$E$31
Name Liste1: Matériels!$E$12:$E$31
Name Liste2: [1]Matériels!#REF!
Name Liste2: Matériels!#REF!
Name Liste3: [1]Matériels!#REF!
Name Liste3: Matériels!#REF!
Name Montant_Retenu: #REF!
Name Theme: Matériels!$A$12:$A$31
Name Type: [1]Matériels!#REF!
Name Type: Matériels!#REF!
Name Unité: [1]Matériels!#REF!
Name Unité: Matériels!#REF!
Name Valeur: Matériels!$F$12:$F$31

Sheet NOTICE
A1: DEMANDE D'AIDE
A2: FONDS EUROPÉEN AGRICOLE POUR LE DÉVELOPPEMENT RURAL (FEADER) | O2: Dispositif | P2: 73.01.04 - Mécanisation en zone de montagne
O3: N° Version AG | P3: V2
B4: Ce document est à renseigner pour toutes les demandes d'aide, les montants générés automatiquement à l'Annexe 2 - Synthèse seront à reporter dans MDNA | O4: Date de début de validité | P4: 46311
B5: dans l'onglet Plan de financement, bloc "Dépenses Prévisionnelles"de votre demande sur "Mes Démarches en Nouvelle-Aquitaine" | O5: Date de fin de validité
B7: Légende document: | E7: Cellule remplie automatiquement avec une formule
E8: Cellule à compléter
B11: Porteur du projet :
B12: Intitulé du projet :
B15: A destination de tous les porteurs de projets
B16: Cette annexe de dépenses prévisionnelles est le document unique vous permettant de détailler toutes les dépenses de votre projet. N'hésitez pas à être exhaustif si vous le juger nécessaire.
B17: Une annexe de dépenses et une de synthèse vous sont mises à disposition à cet effet :
B19: Aide au remplissage des annexes :
B20: ANNEXE 1 | C20: Dépenses previsionnelles
B21: ANNEXE 2 | C21: Synthèse
C22: Un bloc-signature doit être renseigné dans cette annexe. Pour cela, imprimez cette annexe 2 en format paysage dans vos paramètres d'impression, puis une fois remplie et signée, scannez-là pour la joindre à la pièce justificative dans MDNA intitulée "Synthèse des dépenses signée en PDF (Annexe 2 de l'annexe des dépenses prévisionnelles)".
B23: Aide au remplissage de l'Annexe 1 :
B24: - Colonne "Type de dépenses" : sélectionnez Matériel/équipements
B25: - Colonne "Postes de dépense" : sélectionnez dans la liste déroulante le matériel concerné par la demande d'aide (une ligne par matériel)
B26: - Colonne "Nombre de pneus si Option Pneumatique basse pressions" : A ne remplir que si vous choisissez "Option « Pneumatiques basse pression » en colonne C.
B27: Si vous renseignez un chiffre pour un autre matériel, la valeur plafond de ce matériel s'appliquera indépendamment du coefficient multiplicateur
B28: - Colonne "Dénomination du fournisseur" : à renseigner
B29: - Colonne "Identification du justificatif" : à renseigner
B30: - Colonne "Devis 1 (HT) retenu" : à renseigner pour tous les matériels
B31: - Colonne "Devis 1 (HT) retenu plafonné" : cellule remplie automatiquement
B32: - Colonne "Devis 2 non retenu" : à renseigner pour tous les matériels (si coût matériel supérieur à 5 000€ HT)
B33: - Colonne "Devis 3 non retenu" : à renseigner pour tous les matériels (si coût matériel supérieur à 90 000€ HT)
B34: - Colonne "Montant des investissements retenus" : cellule remplie automatiquement
... B42: Vous devez remplir toutes les colonnes B à G pour qu'un montant apparaissent en colonne H

Sheet PIECES_A_FOURNIR
A1: PIÈCES JUSTIFICATIVES À FOURNIR À LA DEMANDE D'AIDE
A2: FONDS EUROPÉEN AGRICOLE POUR LE DÉVELOPPEMENT RURAL (FEADER)
A4: Le Service Instructeur se réserve le droit de demander tout document complémentaire, qu'il juge nécessaire pour l'instruction du dossier.
A6: Pour tous les demandeurs
A7: RIB
A8: Annexes dépenses prévisionnelles
A9: Synthèse des dépenses signée en PDF (Annexe 2 de l'annexe des dépenses prévisionnelles)
A10: Certificat d'immatriculation indiquant le n° SIRET
A11: Tableau des critères de sélection Mécanisation Montagne
A12: Attestation ATEXA (1 seule suffit au nom d’un des associés en cas de forme sociétaire)
A13: Attestation d'affiliation à la MSA
A14: Attestation MSA de régularité au regard du paiement des cotisations sociales
... A49: Mandat au dépôt de la demande de subvention autorisant le chef de file à déposer le dossier

Sheet ANXE_1_DEPENSES_PREVISION
B2: ANNEXE 1: DÉPENSES PRÉVISIONNELLES | O2: Annexe réservée au service instructeur pour l'instruction des dépenses prévisionnelles
B3: FONDS EUROPÉEN AGRICOLE POUR LE DÉVELOPPEMENT RURAL (FEADER)
B5: Porteur du projet : | C5: =NOTICE!D11 -> 0
B6: Intitulé du projet : | C6: =NOTICE!D12 -> 0 | Z6: Matériels/équipement | AB6: =SUM($AD$13:$AD$100) -> 0
D8: Matériels/équipement | F8: =SUM($K$13:$K$100) -> 0
O10: Vérification dépenses sur devis | Y10: Instructions dépenses sur devis
B11: Postes de dépenses | C11: Nombre de pneus si Option Pneumatique basse pression | D11: Dénomination du fournisseur | E11: Identification du justificatif | F11: Date d'émission du devis | G11: Devis 1 (HT) retenu | H11: Devis 1 (HT) retenu par le demandeur ou plafonné | I11: Devis 2 non retenu | J11: Devis 3 non retenu | K11: Montant des investissements retenus par le demandeur | L11: Commentaires | O11: Postes de dépenses | P11: Nombre de pneus si Option Pneumatique basse pression | Q11: Dénomination du fournisseur | R11: Identification du justificatif | S11: Date d'émission du devis | T11: Devis 1 (HT) retenu | U11: Devis 2 non retenu | V11: Devis 3 non retenu | W11: Montant des investissements retenus | X11: Commentaires | Y11: Montant éligible | Z11: Montant inéligible | AA11: Motif d'inéligibilité | AB11: Ecart entre le prix le plus bas et le prix retenu (en %) | AC11: Montant raisonnable maximal théorique (+15% par rapport au devis moins disant) | AD11: Montant retenu (Avant application des plafonds) | AE11: Commentaires
H13: =IFERROR(IF(ISBLANK(G13),"",IF(B13=Matériels!$A$28,MIN(G13,Matériels!$F$28*C13),MIN(G13,INDEX(Matériels!$F$2:$F$31,MATCH(B13,Matériels!$A$2:$A$31,0))))),"") | K13: =IF(AND(G13="",ISBLANK(H13)),"",IF(G13<H13,G13,H13)) | O13: =IF((ANXE_1_DEPENSES_PREVISION!B13)=0,"",ANXE_1_DEPENSES_PREVISION!B13) | P13: =IF((ANXE_1_DEPENSES_PREVISION!C13)=0,"",ANXE_1_DEPENSES_PREVISION!C13) | Q13: =IF((ANXE_1_DEPENSES_PREVISION!D13)=0,"",ANXE_1_DEPENSES_PREVISION!D13) | R13: =IF((ANXE_1_DEPENSES_PREVISION!E13)=0,"",ANXE_1_DEPENSES_PREVISION!E13) | S13: =IF((ANXE_1_DEPENSES_PREVISION!F13)=0,"",ANXE_1_DEPENSES_PREVISION!F13) | T13: =IF((ANXE_1_DEPENSES_PREVISION!G13)=0,"",ANXE_1_DEPENSES_PREVISION!G13) | U13: =IF((ANXE_1_DEPENSES_PREVISION!I13)=0,"",ANXE_1_DEPENSES_PREVISION!I13) | V13: =IF((ANXE_1_DEPENSES_PREVISION!J13)=0,"",ANXE_1_DEPENSES_PREVISION!J13) | W13: =IF((ANXE_1_DEPENSES_PREVISION!G13)=0,"",ANXE_1_DEPENSES_PREVISION!G13) | X13: =IF((ANXE_1_DEPENSES_PREVISION!L13)=0,"",ANXE_1_DEPENSES_PREVISION!L13) | Z13: =IF(W13="","",W13-Y13) | AA13: =IF(W13="","",IF(Z13>0,"Motif obligatoire","")) | AB13: =IFERROR(IF(OR(W13<T13,W13<U13,W13<V13,W13=""),"",(W13-(MIN(T13,U13,V13)))/MIN(T13,U13,V13)),"") | AC13: =IF(W13="","",IF(MIN(T13,U13,V13)*1.15=0,"",MIN(T13,U13,V13)*1.15))
H14: =IFERROR(IF(ISBLANK(G14),"",IF(B14=Matériels!$A$28,MIN(G14,Matériels!$F$28*C14),MIN(G14,INDEX(Matériels!$F$2:$F$31,MATCH(B14,Matériels!$A$2:$A$31,0))))),"") | K14: =IF(AND(G14="",ISBLANK(H14)),"",IF(G14<H14,G14,H14)) | O14: =IF((ANXE_1_DEPENSES_PREVISION!B14)=0,"",ANXE_1_DEPENSES_PREVISION!B14) | P14: =IF((ANXE_1_DEPENSES_PREVISION!C14)=0,"",ANXE_1_DEPENSES_PREVISION!C14) | Q14: =IF((ANXE_1_DEPENSES_PREVISION!D14)=0,"",ANXE_1_DEPENSES_PREVISION!D14) | R14: =IF((ANXE_1_DEPENSES_PREVISION!E14)=0,"",ANXE_1_DEPENSES_PREVISION!E14) | S14: =IF((ANXE_1_DEPENSES_PREVISION!F14)=0,"",ANXE_1_DEPENSES_PREVISION!F14) | T14: =IF((ANXE_1_DEPENSES_PREVISION!G14)=0,"",ANXE_1_DEPENSES_PREVISION!G14) | U14: =IF((ANXE_1_DEPENSES_PREVISION!I14)=0,"",ANXE_1_DEPENSES_PREVISION!I14) | V14: =IF((ANXE_1_DEPENSES_PREVISION!J14)=0,"",ANXE_1_DEPENSES_PREVISION!J14) | W14: =IF((ANXE_1_DEPENSES_PREVISION!G14)=0,"",ANXE_1_DEPENSES_PREVISION!G14) | X14: =IF((ANXE_1_DEPENSES_PREVISION!L14)=0,"",ANXE_1_DEPENSES_PREVISION!L14) | Z14: =IF(W14="","",W14-Y14) | AA14: =IF(W14="","",IF(Z14>0,"Motif obligatoire","")) | AB14: =IFERROR(IF(OR(W14<T14,W14<U14,W14<V14,W14=""),"",(W14-(MIN(T14,U14,V14)))/MIN(T14,U14,V14)),"") | AC14: =IF(W14="","",IF(MIN(T14,U14,V14)*1.15=0,"",MIN(T14,U14,V14)*1.15))
H15: =IFERROR(IF(ISBLANK(G15),"",IF(B15=Matériels!$A$28,MIN(G15,Matériels!$F$28*C15),MIN(G15,INDEX(Matériels!$F$2:$F$31,MATCH(B15,Matériels!$A$2:$A$31,0))))),"") | K15: =IF(AND(G15="",ISBLANK(H15)),"",IF(G15<H15,G15,H15)) | O15: =IF((ANXE_1_DEPENSES_PREVISION!B15)=0,"",ANXE_1_DEPENSES_PREVISION!B15) | P15: =IF((ANXE_1_DEPENSES_PREVISION!C15)=0,"",ANXE_1_DEPENSES_PREVISION!C15) | Q15: =IF((ANXE_1_DEPENSES_PREVISION!D15)=0,"",ANXE_1_DEPENSES_PREVISION!D15) | R15: =IF((ANXE_1_DEPENSES_PREVISION!E15)=0,"",ANXE_1_DEPENSES_PREVISION!E15) | S15: =IF((ANXE_1_DEPENSES_PREVISION!F15)=0,"",ANXE_1_DEPENSES_PREVISION!F15) | T15: =IF((ANXE_1_DEPENSES_PREVISION!G15)=0,"",ANXE_1_DEPENSES_PREVISION!G15) | U15: =IF((ANXE_1_DEPENSES_PREVISION!I15)=0,"",ANXE_1_DEPENSES_PREVISION!I15) | V15: =IF((ANXE_1_DEPENSES_PREVISION!J15)=0,"",ANXE_1_DEPENSES_PREVISION!J15) | W15: =IF((ANXE_1_DEPENSES_PREVISION!G15)=0,"",ANXE_1_DEPENSES_PREVISION!G15) | X15: =IF((ANXE_1_DEPENSES_PREVISION!L15)=0,"",ANXE_1_DEPENSES_PREVISION!L15) | Z15: =IF(W15="","",W15-Y15) | AA15: =IF(W15="","",IF(Z15>0,"Motif obligatoire","")) | AB15: =IFERROR(IF(OR(W15<T15,W15<U15,W15<V15,W15=""),"",(W15-(MIN(T15,U15,V15)))/MIN(T15,U15,V15)),"") | AC15: =IF(W15="","",IF(MIN(T15,U15,V15)*1.15=0,"",MIN(T15,U15,V15)*1.15))
H16: =IFERROR(IF(ISBLANK(G16),"",IF(B16=Matériels!$A$28,MIN(G16,Matériels!$F$28*C16),MIN(G16,INDEX(Matériels!$F$2:$F$31,MATCH(B16,Matériels!$A$2:$A$31,0))))),"") | K16: =IF(AND(G16="",ISBLANK(H16)),"",IF(G16<H16,G16,H16)) | O16: =IF((ANXE_1_DEPENSES_PREVISION!B16)=0,"",ANXE_1_DEPENSES_PREVISION!B16) | P16: =IF((ANXE_1_DEPENSES_PREVISION!C16)=0,"",ANXE_1_DEPENSES_PREVISION!C16) | Q16: =IF((ANXE_1_DEPENSES_PREVISION!D16)=0,"",ANXE_1_DEPENSES_PREVISION!D16) | R16: =IF((ANXE_1_DEPENSES_PREVISION!E16)=0,"",ANXE_1_DEPENSES_PREVISION!E16) | S16: =IF((ANXE_1_DEPENSES_PREVISION!F16)=0,"",ANXE_1_DEPENSES_PREVISION!F16) | T16: =IF((ANXE_1_DEPENSES_PREVISION!G16)=0,"",ANXE_1_DEPENSES_PREVISION!G16) | U16: =IF((ANXE_1_DEPENSES_PREVISION!I16)=0,"",ANXE_1_DEPENSES_PREVISION!I16) | V16: =IF((ANXE_1_DEPENSES_PREVISION!J16)=0,"",ANXE_1_DEPENSES_PREVISION!J16) | W16: =IF((ANXE_1_DEPENSES_PREVISION!G16)=0,"",ANXE_1_DEPENSES_PREVISION!G16) | X16: =IF((ANXE_1_DEPENSES_PREVISION!L16)=0,"",ANXE_1_DEPENSES_PREVISION!L16) | Z16: =IF(W16="","",W16-Y16) | AA16: =IF(W16="","",IF(Z16>0,"Motif obligatoire","")) | AB16: =IFERROR(IF(OR(W16<T16,W16<U16,W16<V16,W16=""),"",(W16-(MIN(T16,U16,V16)))/MIN(T16,U16,V16)),"") | AC16: =IF(W16="","",IF(MIN(T16,U16,V16)*1.15=0,"",MIN(T16,U16,V16)*1.15))
H17: =IFERROR(IF(ISBLANK(G17),"",IF(B17=Matériels!$A$28,MIN(G17,Matériels!$F$28*C17),MIN(G17,INDEX(Matériels!$F$2:$F$31,MATCH(B17,Matériels!$A$2:$A$31,0))))),"") | K17: =IF(AND(G17="",ISBLANK(H17)),"",IF(G17<H17,G17,H17)) | O17: =IF((ANXE_1_DEPENSES_PREVISION!B17)=0,"",ANXE_1_DEPENSES_PREVISION!B17) | P17: =IF((ANXE_1_DEPENSES_PREVISION!C17)=0,"",ANXE_1_DEPENSES_PREVISION!C17) | Q17: =IF((ANXE_1_DEPENSES_PREVISION!D17)=0,"",ANXE_1_DEPENSES_PREVISION!D17) | R17: =IF((ANXE_1_DEPENSES_PREVISION!E17)=0,"",ANXE_1_DEPENSES_PREVISION!E17) | S17: =IF((ANXE_1_DEPENSES_PREVISION!F17)=0,"",ANXE_1_DEPENSES_PREVISION!F17) | T17: =IF((ANXE_1_DEPENSES_PREVISION!G17)=0,"",ANXE_1_DEPENSES_PREVISION!G17) | U17: =IF((ANXE_1_DEPENSES_PREVISION!I17)=0,"",ANXE_1_DEPENSES_PREVISION!I17) | V17: =IF((ANXE_1_DEPENSES_PREVISION!J17)=0,"",ANXE_1_DEPENSES_PREVISION!J17) | W17: =IF((ANXE_1_DEPENSES_PREVISION!G17)=0,"",ANXE_1_DEPENSES_PREVISION!G17) | X17: =IF((ANXE_1_DEPENSES_PREVISION!L17)=0,"",ANXE_1_DEPENSES_PREVISION!L17) | Z17: =IF(W17="","",W17-Y17) | AA17: =IF(W17="","",IF(Z17>0,"Motif obligatoire","")) | AB17: =IFERROR(IF(OR(W17<T17,W17<U17,W17<V17,W17=""),"",(W17-(MIN(T17,U17,V17)))/MIN(T17,U17,V17)),"") | AC17: =IF(W17="","",IF(MIN(T17,U17,V17)*1.15=0,"",MIN(T17,U17,V17)*1.15))
H18: =IFERROR(IF(ISBLANK(G18),"",IF(B18=Matériels!$A$28,MIN(G18,Matériels!$F$28*C18),MIN(G18,INDEX(Matériels!$F$2:$F$31,MATCH(B18,Matériels!$A$2:$A$31,0))))),"") | K18: =IF(AND(G18="",ISBLANK(H18)),"",IF(G18<H18,G18,H18)) | O18: =IF((ANXE_1_DEPENSES_PREVISION!B18)=0,"",ANXE_1_DEPENSES_PREVISION!B18) | P18: =IF((ANXE_1_DEPENSES_PREVISION!C18)=0,"",ANXE_1_DEPENSES_PREVISION!C18) | Q18: =IF((ANXE_1_DEPENSES_PREVISION!D18)=0,"",ANXE_1_DEPENSES_PREVISION!D18) | R18: =IF((ANXE_1_DEPENSES_PREVISION!E18)=0,"",ANXE_1_DEPENSES_PREVISION!E18) | S18: =IF((ANXE_1_DEPENSES_PREVISION!F18)=0,"",ANXE_1_DEPENSES_PREVISION!F18) | T18: =IF((ANXE_1_DEPENSES_PREVISION!G18)=0,"",ANXE_1_DEPENSES_PREVISION!G18) | U18: =IF((ANXE_1_DEPENSES_PREVISION!I18)=0,"",ANXE_1_DEPENSES_PREVISION!I18) | V18: =IF((ANXE_1_DEPENSES_PREVISION!J18)=0,"",ANXE_1_DEPENSES_PREVISION!J18) | W18: =IF((ANXE_1_DEPENSES_PREVISION!G18)=0,"",ANXE_1_DEPENSES_PREVISION!G18) | X18: =IF((ANXE_1_DEPENSES_PREVISION!L18)=0,"",ANXE_1_DEPENSES_PREVISION!L18) | Z18: =IF(W18="","",W18-Y18) | AA18: =IF(W18="","",IF(Z18>0,"Motif obligatoire","")) | AB18: =IFERROR(IF(OR(W18<T18,W18<U18,W18<V18,W18=""),"",(W18-(MIN(T18,U18,V18)))/MIN(T18,U18,V18)),"") | AC18: =IF(W18="","",IF(MIN(T18,U18,V18)*1.15=0,"",MIN(T18,U18,V18)*1.15))
H19: =IFERROR(IF(ISBLANK(G19),"",IF(B19=Matériels!$A$28,MIN(G19,Matériels!$F$28*C19),MIN(G19,INDEX(Matériels!$F$2:$F$31,MATCH(B19,Matériels!$A$2:$A$31,0))))),"") | K19: =IF(AND(G19="",ISBLANK(H19)),"",IF(G19<H19,G19,H19)) | O19: =IF((ANXE_1_DEPENSES_PREVISION!B19)=0,"",ANXE_1_DEPENSES_PREVISION!B19) | P19: =IF((ANXE_1_DEPENSES_PREVISION!C19)=0,"",ANXE_1_DEPENSES_PREVISION!C19) | Q19: =IF((ANXE_1_DEPENSES_PREVISION!D19)=0,"",ANXE_1_DEPENSES_PREVISION!D19) | R19: =IF((ANXE_1_DEPENSES_PREVISION!E19)=0,"",ANXE_1_DEPENSES_PREVISION!E19) | S19: =IF((ANXE_1_DEPENSES_PREVISION!F19)=0,"",ANXE_1_DEPENSES_PREVISION!F19) | T19: =IF((ANXE_1_DEPENSES_PREVISION!G19)=0,"",ANXE_1_DEPENSES_PREVISION!G19) | U19: =IF((ANXE_1_DEPENSES_PREVISION!I19)=0,"",ANXE_1_DEPENSES_PREVISION!I19) | V19: =IF((ANXE_1_DEPENSES_PREVISION!J19)=0,"",ANXE_1_DEPENSES_PREVISION!J19) | W19: =IF((ANXE_1_DEPENSES_PREVISION!G19)=0,"",ANXE_1_DEPENSES_PREVISION!G19) | X19: =IF((ANXE_1_DEPENSES_PREVISION!L19)=0,"",ANXE_1_DEPENSES_PREVISION!L19) | Z19: =IF(W19="","",W19-Y19) | AA19: =IF(W19="","",IF(Z19>0,"Motif obligatoire","")) | AB19: =IFERROR(IF(OR(W19<T19,W19<U19,W19<V19,W19=""),"",(W19-(MIN(T19,U19,V19)))/MIN(T19,U19,V19)),"") | AC19: =IF(W19="","",IF(MIN(T19,U19,V19)*1.15=0,"",MIN(T19,U19,V19)*1.15))
H20: =IFERROR(IF(ISBLANK(G20),"",IF(B20=Matériels!$A$28,MIN(G20,Matériels!$F$28*C20),MIN(G20,INDEX(Matériels!$F$2:$F$31,MATCH(B20,Matériels!$A$2:$A$31,0))))),"") | K20: =IF(AND(G20="",ISBLANK(H20)),"",IF(G20<H20,G20,H20)) | O20: =IF((ANXE_1_DEPENSES_PREVISION!B20)=0,"",ANXE_1_DEPENSES_PREVISION!B20) | P20: =IF((ANXE_1_DEPENSES_PREVISION!C20)=0,"",ANXE_1_DEPENSES_PREVISION!C20) | Q20: =IF((ANXE_1_DEPENSES_PREVISION!D20)=0,"",ANXE_1_DEPENSES_PREVISION!D20) | R20: =IF((ANXE_1_DEPENSES_PREVISION!E20)=0,"",ANXE_1_DEPENSES_PREVISION!E20) | S20: =IF((ANXE_1_DEPENSES_PREVISION!F20)=0,"",ANXE_1_DEPENSES_PREVISION!F20) | T20: =IF((ANXE_1_DEPENSES_PREVISION!G20)=0,"",ANXE_1_DEPENSES_PREVISION!G20) | U20: =IF((ANXE_1_DEPENSES_PREVISION!I20)=0,"",ANXE_1_DEPENSES_PREVISION!I20) | V20: =IF((ANXE_1_DEPENSES_PREVISION!J20)=0,"",ANXE_1_DEPENSES_PREVISION!J20) | W20: =IF((ANXE_1_DEPENSES_PREVISION!G20)=0,"",ANXE_1_DEPENSES_PREVISION!G20) | X20: =IF((ANXE_1_DEPENSES_PREVISION!L20)=0,"",ANXE_1_DEPENSES_PREVISION!L20) | Z20: =IF(W20="","",W20-Y20) | AA20: =IF(W20="","",IF(Z20>0,"Motif obligatoire","")) | AB20: =IFERROR(IF(OR(W20<T20,W20<U20,W20<V20,W20=""),"",(W20-(MIN(T20,U20,V20)))/MIN(T20,U20,V20)),"") | AC20: =IF(W20="","",IF(MIN(T20,U20,V20)*1.15=0,"",MIN(T20,U20,V20)*1.15))
H21: =IFERROR(IF(ISBLANK(G21),"",IF(B21=Matériels!$A$28,MIN(G21,Matériels!$F$28*C21),MIN(G21,INDEX(Matériels!$F$2:$F$31,MATCH(B21,Matériels!$A$2:$A$31,0))))),"") | K21: =IF(AND(G21="",ISBLANK(H21)),"",IF(G21<H21,G21,H21)) | O21: =IF((ANXE_1_DEPENSES_PREVISION!B21)=0,"",ANXE_1_DEPENSES_PREVISION!B21) | P21: =IF((ANXE_1_DEPENSES_PREVISION!C21)=0,"",ANXE_1_DEPENSES_PREVISION!C21) | Q21: =IF((ANXE_1_DEPENSES_PREVISION!D21)=0,"",ANXE_1_DEPENSES_PREVISION!D21) | R21: =IF((ANXE_1_DEPENSES_PREVISION!E21)=0,"",ANXE_1_DEPENSES_PREVISION!E21) | S21: =IF((ANXE_1_DEPENSES_PREVISION!F21)=0,"",ANXE_1_DEPENSES_PREVISION!F21) | T21: =IF((ANXE_1_DEPENSES_PREVISION!G21)=0,"",ANXE_1_DEPENSES_PREVISION!G21) | U21: =IF((ANXE_1_DEPENSES_PREVISION!I21)=0,"",ANXE_1_DEPENSES_PREVISION!I21) | V21: =IF((ANXE_1_DEPENSES_PREVISION!J21)=0,"",ANXE_1_DEPENSES_PREVISION!J21) | W21: =IF((ANXE_1_DEPENSES_PREVISION!G21)=0,"",ANXE_1_DEPENSES_PREVISION!G21) | X21: =IF((ANXE_1_DEPENSES_PREVISION!L21)=0,"",ANXE_1_DEPENSES_PREVISION!L21) | Z21: =IF(W21="","",W21-Y21) | AA21: =IF(W21="","",IF(Z21>0,"Motif obligatoire","")) | AB21: =IFERROR(IF(OR(W21<T21,W21<U21,W21<V21,W21=""),"",(W21-(MIN(T21,U21,V21)))/MIN(T21,U21,V21)),"") | AC21: =IF(W21="","",IF(MIN(T21,U21,V21)*1.15=0,"",MIN(T21,U21,V21)*1.15))
H22: =IFERROR(IF(ISBLANK(G22),"",IF(B22=Matériels!$A$28,MIN(G22,Matériels!$F$28*C22),MIN(G22,INDEX(Matériels!$F$2:$F$31,MATCH(B22,Matériels!$A$2:$A$31,0))))),"") | K22: =IF(AND(G22="",ISBLANK(H22)),"",IF(G22<H22,G22,H22)) | O22: =IF((ANXE_1_DEPENSES_PREVISION!B22)=0,"",ANXE_1_DEPENSES_PREVISION!B22) | P22: =IF((ANXE_1_DEPENSES_PREVISION!C22)=0,"",ANXE_1_DEPENSES_PREVISION!C22) | Q22: =IF((ANXE_1_DEPENSES_PREVISION!D22)=0,"",ANXE_1_DEPENSES_PREVISION!D22) | R22: =IF((ANXE_1_DEPENSES_PREVISION!E22)=0,"",ANXE_1_DEPENSES_PREVISION!E22) | S22: =IF((ANXE_1_DEPENSES_PREVISION!F22)=0,"",ANXE_1_DEPENSES_PREVISION!F22) | T22: =IF((ANXE_1_DEPENSES_PREVISION!G22)=0,"",ANXE_1_DEPENSES_PREVISION!G22) | U22: =IF((ANXE_1_DEPENSES_PREVISION!I22)=0,"",ANXE_1_DEPENSES_PREVISION!I22) | V22: =IF((ANXE_1_DEPENSES_PREVISION!J22)=0,"",ANXE_1_DEPENSES_PREVISION!J22) | W22: =IF((ANXE_1_DEPENSES_PREVISION!G22)=0,"",ANXE_1_DEPENSES_PREVISION!G22) | X22: =IF((ANXE_1_DEPENSES_PREVISION!L22)=0,"",ANXE_1_DEPENSES_PREVISION!L22) | Z22: =IF(W22="","",W22-Y22) | AA22: =IF(W22="","",IF(Z22>0,"Motif obligatoire","")) | AB22: =IFERROR(IF(OR(W22<T22,W22<U22,W22<V22,W22=""),"",(W22-(MIN(T22,U22,V22)))/MIN(T22,U22,V22)),"") | AC22: =IF(W22="","",IF(MIN(T22,U22,V22)*1.15=0,"",MIN(T22,U22,V22)*1.15))
H23: =IFERROR(IF(ISBLANK(G23),"",IF(B23=Matériels!$A$28,MIN(G23,Matériels!$F$28*C23),MIN(G23,INDEX(Matériels!$F$2:$F$31,MATCH(B23,Matériels!$A$2:$A$31,0))))),"") | K23: =IF(AND(G23="",ISBLANK(H23)),"",IF(G23<H23,G23,H23)) | O23: =IF((ANXE_1_DEPENSES_PREVISION!B23)=0,"",ANXE_1_DEPENSES_PREVISION!B23) | P23: =IF((ANXE_1_DEPENSES_PREVISION!C23)=0,"",ANXE_1_DEPENSES_PREVISION!C23) | Q23: =IF((ANXE_1_DEPENSES_PREVISION!D23)=0,"",ANXE_1_DEPENSES_PREVISION!D23) | R23: =IF((ANXE_1_DEPENSES_PREVISION!E23)=0,"",ANXE_1_DEPENSES_PREVISION!E23) | S23: =IF((ANXE_1_DEPENSES_PREVISION!F23)=0,"",ANXE_1_DEPENSES_PREVISION!F23) | T23: =IF((ANXE_1_DEPENSES_PREVISION!G23)=0,"",ANXE_1_DEPENSES_PREVISION!G23) | U23: =IF((ANXE_1_DEPENSES_PREVISION!I23)=0,"",ANXE_1_DEPENSES_PREVISION!I23) | V23: =IF((ANXE_1_DEPENSES_PREVISION!J23)=0,"",ANXE_1_DEPENSES_PREVISION!J23) | W23: =IF((ANXE_1_DEPENSES_PREVISION!G23)=0,"",ANXE_1_DEPENSES_PREVISION!G23) | X23: =IF((ANXE_1_DEPENSES_PREVISION!L23)=0,"",ANXE_1_DEPENSES_PREVISION!L23) | Z23: =IF(W23="","",W23-Y23) | AA23: =IF(W23="","",IF(Z23>0,"Motif obligatoire","")) | AB23: =IFERROR(IF(OR(W23<T23,W23<U23,W23<V23,W23=""),"",(W23-(MIN(T23,U23,V23)))/MIN(T23,U23,V23)),"") | AC23: =IF(W23="","",IF(MIN(T23,U23,V23)*1.15=0,"",MIN(T23,U23,V23)*1.15))
H24: =IFERROR(IF(ISBLANK(G24),"",IF(B24=Matériels!$A$28,MIN(G24,Matériels!$F$28*C24),MIN(G24,INDEX(Matériels!$F$2:$F$31,MATCH(B24,Matériels!$A$2:$A$31,0))))),"") | K24: =IF(AND(G24="",ISBLANK(H24)),"",IF(G24<H24,G24,H24)) | O24: =IF((ANXE_1_DEPENSES_PREVISION!B24)=0,"",ANXE_1_DEPENSES_PREVISION!B24) | P24: =IF((ANXE_1_DEPENSES_PREVISION!C24)=0,"",ANXE_1_DEPENSES_PREVISION!C24) | Q24: =IF((ANXE_1_DEPENSES_PREVISION!D24)=0,"",ANXE_1_DEPENSES_PREVISION!D24) | R24: =IF((ANXE_1_DEPENSES_PREVISION!E24)=0,"",ANXE_1_DEPENSES_PREVISION!E24) | S24: =IF((ANXE_1_DEPENSES_PREVISION!F24)=0,"",ANXE_1_DEPENSES_PREVISION!F24) | T24: =IF((ANXE_1_DEPENSES_PREVISION!G24)=0,"",ANXE_1_DEPENSES_PREVISION!G24) | U24: =IF((ANXE_1_DEPENSES_PREVISION!I24)=0,"",ANXE_1_DEPENSES_PREVISION!I24) | V24: =IF((ANXE_1_DEPENSES_PREVISION!J24)=0,"",ANXE_1_DEPENSES_PREVISION!J24) | W24: =IF((ANXE_1_DEPENSES_PREVISION!G24)=0,"",ANXE_1_DEPENSES_PREVISION!G24) | X24: =IF((ANXE_1_DEPENSES_PREVISION!L24)=0,"",ANXE_1_DEPENSES_PREVISION!L24) | Z24: =IF(W24="","",W24-Y24) | AA24: =IF(W24="","",IF(Z24>0,"Motif obligatoire","")) | AB24: =IFERROR(IF(OR(W24<T24,W24<U24,W24<V24,W24=""),"",(W24-(MIN(T24,U24,V24)))/MIN(T24,U24,V24)),"") | AC24: =IF(W24="","",IF(MIN(T24,U24,V24)*1.15=0,"",MIN(T24,U24,V24)*1.15))
... H100: =IFERROR(IF(ISBLANK(G100),"",IF(B100=Matériels!$A$28,MIN(G100,Matériels!$F$28*C100),MIN(G100,INDEX(Matériels!$F$2:$F$31,MATCH(B100,Matériels!$A$2:$A$31,0))))),"") | K100: =IF(AND(G100="",ISBLANK(H100)),"",IF(G100<H100,G100,H100)) | O100: =IF((ANXE_1_DEPENSES_PREVISION!B100)=0,"",ANXE_1_DEPENSES_PREVISION!B100) | P100: =IF((ANXE_1_DEPENSES_PREVISION!C100)=0,"",ANXE_1_DEPENSES_PREVISION!C100) | Q100: =IF((ANXE_1_DEPENSES_PREVISION!D100)=0,"",ANXE_1_DEPENSES_PREVISION!D100) | R100: =IF((ANXE_1_DEPENSES_PREVISION!E100)=0,"",ANXE_1_DEPENSES_PREVISION!E100) | S100: =IF((ANXE_1_DEPENSES_PREVISION!F100)=0,"",ANXE_1_DEPENSES_PREVISION!F100) | T100: =IF((ANXE_1_DEPENSES_PREVISION!G100)=0,"",ANXE_1_DEPENSES_PREVISION!G100) | U100: =IF((ANXE_1_DEPENSES_PREVISION!I100)=0,"",ANXE_1_DEPENSES_PREVISION!I100) | V100: =IF((ANXE_1_DEPENSES_PREVISION!J100)=0,"",ANXE_1_DEPENSES_PREVISION!J100) | W100: =IF((ANXE_1_DEPENSES_PREVISION!G100)=0,"",ANXE_1_DEPENSES_PREVISION!G100) | X100: =IF((ANXE_1_DEPENSES_PREVISION!L100)=0,"",ANXE_1_DEPENSES_PREVISION!L100) | Z100: =IF(W100="","",W100-Y100) | AA100: =IF(W100="","",IF(Z100>0,"Motif obligatoire","")) | AB100: =IFERROR(IF(OR(W100<T100,W100<U100,W100<V100,W100=""),"",(W100-(MIN(T100,U100,V100)))/MIN(T100,U100,V100)),"") | AC100: =IF(W100="","",IF(MIN(T100,U100,V100)*1.15=0,"",MIN(T100,U100,V100)*1.15))
A101: =IF(#REF!="","",IF(#REF!>0,"Motif obligatoire","")) -> #REF!

Sheet ANXE_2_SYNTHESE
B2: ANNEXE 2: SYNTHÈSE
B3: FONDS EUROPÉEN AGRICOLE POUR LE DÉVELOPPEMENT RURAL (FEADER)
B5: Porteur de projet : | D5: =NOTICE!D11 -> 0
B6: Intitulé du projet : | D6: =NOTICE!D12 -> 0
C9: Type de Dépenses | D9: Montant total (A reporter dans MDNA) | M9: Type de Dépenses | N9: Montant total
C10: Matériel/équipements | D10: =IF((ANXE_1_DEPENSES_PREVISION!F8)=0,0,ANXE_1_DEPENSES_PREVISION!F8) -> 0 | M10: Matériel/équipements | N10: =IF((ANXE_1_DEPENSES_PREVISION!AB6)=0,0,ANXE_1_DEPENSES_PREVISION!AB6) -> 0
C11: TOTAL Projet | D11: =IF(SUM(D10:D10)=0,0,SUM(D10:D10)) -> 0 | M11: TOTAL Projet | N11: =IF(SUM(N10:N10)=0,0,SUM(N10:N10)) -> 0
C14: Les valeurs de ce tableau sont à reporter dans l'onglet plan de financement de votre demande d'aide sur "Mes Demarches en Nouvelle-Aquitaine"
C21: Fait à , le
C23: Nom du signataire :
C24: Fonction du signataire :
C25: Signature du porteur de projet (représentant légal)

Sheet Matériels
A1: Thématique (postes de dépenses) | B1: Type de matériels | C1: Matériels détaillés | E1: Libellé | F1: Coût Plafond
A2: Porte-outils compacts adaptés forte pente | E2: PorteOutils_forte_pente | F2: 110000 | H2: PorteOutils_forte_pente | I2: =IFERROR(INDEX($A$2:$A$31,MATCH(H2,$E$2:$E$31,0)),"") -> Porte-outils compacts adaptés forte pente
A3: Surcoût sur porte-outils compacts adaptés pente moyenne et vigne | E3: surcoût_pente_moyenne_vigne | F3: 20000 | H3: surcoût_pente_moyenne_vigne | I3: =IFERROR(INDEX($A$2:$A$31,MATCH(H3,$E$2:$E$31,0)),"") -> Surcoût sur porte-outils compacts adaptés pente moyenne et vigne
A4: Surcoût sur porte-outils compacts adaptés pente moyenne | E4: surcoût_pente_moyenne | F4: 40000 | H4: surcoût_pente_moyenne | I4: =IFERROR(INDEX($A$2:$A$31,MATCH(H4,$E$2:$E$31,0)),"") -> Surcoût sur porte-outils compacts adaptés pente moyenne | J4: =IFERROR(INDEX($A$12:$A$31,MATCH(#REF!,$E$12:$E$31,0)),"")
A5: Transporteur possédant 4 roues d’égales dimensions | E5: Transporteur_4roues_egales | F5: 110000 | H5: Transporteur_4roues_egales | I5: =IFERROR(INDEX($A$2:$A$31,MATCH(H5,$E$2:$E$31,0)),"") -> Transporteur possédant 4 roues d’égales dimensions | J5: =IFERROR(INDEX($A$12:$A$31,MATCH(H5,$E$12:$E$31,0)),"")
A6: Attelage arrière avec prise de force adaptable sur transporteur éligible | E6: Attelage_arriere_adapt_transporteur | F6: 7000 | H6: Attelage_arriere_adapt_transporteur | I6: =IFERROR(INDEX($A$2:$A$31,MATCH(H6,$E$2:$E$31,0)),"") -> Attelage arrière avec prise de force adaptable sur transporteur éligible
A7: Andaineur de montagne adaptable aux motofaucheuses hydrostatiques | E7: Andaineur_adapt_motofaucheuse | F7: 10000 | H7: Andaineur_adapt_motofaucheuse | I7: =IFERROR(INDEX($A$2:$A$31,MATCH(H7,$E$2:$E$31,0)),"") -> Andaineur de montagne adaptable aux motofaucheuses hydrostatiques
A8: Andaineur frontal adaptable aux porte-outils | E8: Andaineur_front_adapt_porteOutils | F8: 8000 | H8: Andaineur_front_adapt_porteOutils | I8: =IFERROR(INDEX($A$2:$A$31,MATCH(H8,$E$2:$E$31,0)),"") -> Andaineur frontal adaptable aux porte-outils
A9: Andaineur frontal à tapis adaptable aux porte-outils | E9: Andaineur_front_tapis_adapt_porteOutils | F9: 18000 | H9: Andaineur_front_tapis_adapt_porteOutils | I9: =IFERROR(INDEX($A$2:$A$31,MATCH(H9,$E$2:$E$31,0)),"") -> Andaineur frontal à tapis adaptable aux porte-outils
A10: Andaineur adaptable sur motofaucheuse classique | E10: Andaineur_motofaucheuse_classique | F10: 7500 | G10: nouveau | H10: Andaineur_motofaucheuse_classique | I10: =IFERROR(INDEX($A$2:$A$31,MATCH(H10,$E$2:$E$31,0)),"") -> Andaineur adaptable sur motofaucheuse classique
A11: Autochargeuse | E11: Autochargeuse | F11: 40000 | H11: Autochargeuse | I11: =IFERROR(INDEX($A$2:$A$31,MATCH(H11,$E$2:$E$31,0)),"") -> Autochargeuse
A12: Roundballer | E12: Roundballer | F12: 25000 | H12: Roundballer | I12: =IFERROR(INDEX($A$2:$A$31,MATCH(H12,$E$2:$E$31,0)),"") -> Roundballer
A13: Broyeur adaptable sur motofaucheuse | E13: Broyeur_adapt_motofaucheuse | F13: 3000 | H13: Broyeur_adapt_motofaucheuse | I13: =IFERROR(INDEX($A$2:$A$31,MATCH(H13,$E$2:$E$31,0)),"") -> Broyeur adaptable sur motofaucheuse
A14: Débroussailleuse, faucheuse frontale | E14: Débroussailleuse_faucheuse_frontale | F14: 12000 | H14: Débroussailleuse_faucheuse_frontale | I14: =IFERROR(INDEX($A$2:$A$31,MATCH(H14,$E$2:$E$31,0)),"") -> Débroussailleuse, faucheuse frontale
A15: Giro-broyeur ou broyeur frontal/réversible | E15: GiroBroyeur_broyeur_frontal_réversible | F15: 8000 | H15: GiroBroyeur_broyeur_frontal_réversible | I15: =IFERROR(INDEX($A$2:$A$31,MATCH(H15,$E$2:$E$31,0)),"") -> Giro-broyeur ou broyeur frontal/réversible
A16: Moto-broyeur automoteur avec broyeur avant à fléaux | E16: MotoBroyeur_automot_broyeur_fléaux | F16: 6000 | H16: MotoBroyeur_automot_broyeur_fléaux | I16: =IFERROR(INDEX($A$2:$A$31,MATCH(H16,$E$2:$E$31,0)),"") -> Moto-broyeur automoteur avec broyeur avant à fléaux
A17: Motofaucheuse automotrice avec barre de coupe | E17: Motofaucheuse_automot_ barreCoupe | F17: 9000 | H17: Motofaucheuse_automot_ barreCoupe | I17: =IFERROR(INDEX($A$2:$A$31,MATCH(H17,$E$2:$E$31,0)),"") -> Motofaucheuse automotrice avec barre de coupe
A18: Motofaucheuse automotrice hydrostatique | E18: Motofaucheuse_automot_hydrostatique | F18: 18500 | H18: Motofaucheuse_automot_hydrostatique | I18: =IFERROR(INDEX($A$2:$A$31,MATCH(H18,$E$2:$E$31,0)),"") -> Motofaucheuse automotrice hydrostatique
A19: Broyeur radiocommandé (achat en copropriété (3 exploitants mini)) | E19: Broyeur_radiocommandé | F19: 70000 | G19: nouveau | H19: Broyeur_radiocommandé | I19: Broyeur radiocommandé
A20: Enfouisseur | C20: Robot de désherbage mécanique | E20: Enfouisseur | F20: 8000 | H20: Enfouisseur | I20: =IFERROR(INDEX($A$2:$A$31,MATCH(H20,$E$2:$E$31,0)),"") -> Enfouisseur
A21: Epandeur à fumier | E21: Epandeur_fumier | F21: 16000 | H21: Epandeur_fumier | I21: =IFERROR(INDEX($A$2:$A$31,MATCH(H21,$E$2:$E$31,0)),"") -> Epandeur à fumier
A22: Epandeur à lisier | E22: Epandeur_lisier | F22: 12000 | H22: Epandeur_lisier | I22: =IFERROR(INDEX($A$2:$A$31,MATCH(H22,$E$2:$E$31,0)),"") -> Epandeur à lisier
A23: Répartiteur | E23: Répartiteur | F23: 8000 | H23: Répartiteur | I23: =IFERROR(INDEX($A$2:$A$31,MATCH(H23,$E$2:$E$31,0)),"") -> Répartiteur
A24: Broyeur axe horizontal, gyro-broyeur (porte-outil/quad) | E24: Broyeur_axehorizont_giro_porteOutils_quad | F24: 15000 | H24: Broyeur_axehorizont_giro_porteOutils_quad | I24: =IFERROR(INDEX($A$2:$A$31,MATCH(H24,$E$2:$E$31,0)),"") -> Broyeur axe horizontal, gyro-broyeur (porte-outil/quad)
A25: Cellule porte outil (type motofaucheuses) avec équipement adapté | E25: Cellule_porteOutils_motofaucheuse | F25: 20000 | H25: Cellule_porteOutils_motofaucheuse | I25: =IFERROR(INDEX($A$2:$A$31,MATCH(H25,$E$2:$E$31,0)),"") -> Cellule porte outil (type motofaucheuses) avec équipement adapté
A26: Jumelage roues | E26: Jumelage_roues | F26: 5000 | H26: Jumelage_roues | I26: =IFERROR(INDEX($A$2:$A$31,MATCH(H26,$E$2:$E$31,0)),"") -> Jumelage roues
A27: Option « Kit chenilles pour quad et véhicules légers » | E27: Option_KitChenilles_quad_véhiculesLégers | F27: 6000 | H27: Option_KitChenilles_quad_véhiculesLégers | I27: =IFERROR(INDEX($A$2:$A$31,MATCH(H27,$E$2:$E$31,0)),"") -> Option « Kit chenilles pour quad et véhicules légers »
A28: Option « Pneumatiques basse pression » | E28: Option_Pneum_basse_pression | F28: 2000 | G28: par pneu | H28: Option_Pneum_basse_pression | I28: =IFERROR(INDEX($A$2:$A$31,MATCH(H28,$E$2:$E$31,0)),"") -> Option « Pneumatiques basse pression »
A29: Enfonce pieux à vibration | C29: Décavailloneuse | E29: Enfonce_pieux_vibration | F29: 15000 | H29: Enfonce_pieux_vibration | I29: =IFERROR(INDEX($A$2:$A$31,MATCH(H29,$E$2:$E$31,0)),"") -> Enfonce pieux à vibration
A30: Abri déplaçable | E30: Abri_déplaçable | F30: 6000 | H30: Abri_déplaçable | I30: =IFERROR(INDEX($A$2:$A$31,MATCH(H30,$E$2:$E$31,0)),"") -> Abri déplaçable
A31: Bétaillère | C31: Houe/herse rotative | E31: Bétaillère | F31: 24000 | H31: Bétaillère | I31: =IFERROR(INDEX($A$2:$A$31,MATCH(H31,$E$2:$E$31,0)),"") -> Bétaillère
I32: =IFERROR(INDEX($A$2:$A$31,MATCH(H32,$E$2:$E$31,0)),"")
I33: =IFERROR(INDEX($A$12:$A$31,MATCH(#REF!,$E$12:$E$31,0)),"")
A34: Catégories
A35: Clôture des parcelles accidentées ou pentues | F35: Matériel/équipements
A36: Gestion de l’activité de pâturage / éloignement / conditions climatiques
A37: Matériel adaptable de fenaison
A38: Matériel attelé ou transporté d’épandage des effluents d’élevage
A39: Matériel d’entretien
A40: Matériel de traction et de transport
...
